BEGIN:VCALENDAR
VERSION:2.0
PRODID:-//Frederick County YMCA - ECPv6.15.12.2//NONSGML v1.0//EN
CALSCALE:GREGORIAN
METHOD:PUBLISH
X-ORIGINAL-URL:https://frederickymca.org
X-WR-CALDESC:Events for Frederick County YMCA
REFRESH-INTERVAL;VALUE=DURATION:PT1H
X-Robots-Tag:noindex
X-PUBLISHED-TTL:PT1H
BEGIN:VTIMEZONE
TZID:UTC
BEGIN:STANDARD
TZOFFSETFROM:+0000
TZOFFSETTO:+0000
TZNAME:UTC
DTSTART:20200101T000000
END:STANDARD
END:VTIMEZONE
BEGIN:VEVENT
DTSTART;TZID=UTC:20211211T190000
DTEND;TZID=UTC:20211211T210000
DTSTAMP:20260425T030452
CREATED:20211202T210831Z
LAST-MODIFIED:20211217T203404Z
UID:7145-1639249200-1639256400@frederickymca.org
SUMMARY:Holiday Paint Night @ Y Arts Center
DESCRIPTION:Hang out with friends and create this cozy Winter Night painting. Enjoy holiday cookies and apple cider during this instructor-led fun-filled event at the Y Arts Center.\nAges 14+\n$30 includes all snacks and supplies
URL:https://frederickymca.org/event/holiday-paint-night-y-arts-center
LOCATION:Y Arts Center\, 115 East Church Street\, Frederick\, Maryland\, 21701
CATEGORIES:Arts & Humanities
ATTACH;FMTTYPE=image/jpeg:https://frederickymca.org/wp-content/uploads/sites/7/2021/12/Y-arts-paint-night.jpg
END:VEVENT
END:VCALENDAR