BEGIN:VCALENDAR
VERSION:2.0
PRODID:-//Frederick County YMCA - ECPv6.15.12.2//NONSGML v1.0//EN
CALSCALE:GREGORIAN
METHOD:PUBLISH
X-ORIGINAL-URL:https://frederickymca.org
X-WR-CALDESC:Events for Frederick County YMCA
REFRESH-INTERVAL;VALUE=DURATION:PT1H
X-Robots-Tag:noindex
X-PUBLISHED-TTL:PT1H
BEGIN:VTIMEZONE
TZID:UTC
BEGIN:STANDARD
TZOFFSETFROM:+0000
TZOFFSETTO:+0000
TZNAME:UTC
DTSTART:20230101T000000
END:STANDARD
END:VTIMEZONE
BEGIN:VEVENT
DTSTART;TZID=UTC:20241212T190000
DTEND;TZID=UTC:20241212T210000
DTSTAMP:20260422T192819
CREATED:20241125T142931Z
LAST-MODIFIED:20241125T143804Z
UID:8924-1734030000-1734037200@frederickymca.org
SUMMARY:"Curiosities" Opening Receptions
DESCRIPTION:“Curiosities” Opening Receptions \n“Curiosities” the next art exhibition at Gallery 115 at The Y Arts Center in Downtown\, Frederick will run Wednesday\, December 1 through Wednesday\, January 26\, 2025\, with an Opening Reception on Thursday\, December 12\, 7 pm to 9 pm. \n  \nCuriosities invites viewers to explore the beauty in the bizarre\, evoking a sense of childlike whimsy. With sculptural and 2D works\, discover how artists Juliana McNally and Emma Sandler embrace the peculiar to create a space of intrigue and playfulness.  \n  \nEmma Sandler is an artist from Frederick\, Maryland\, primarily working in clay and illustration. Themes that inform their work include folklore\, anatomy\, and traditions. Sandler received their bachelor’s degree of art and archaeology from Hood College and currently works at the Frederick Arts Council. \n  \nJuliana McNally is a Frederick based multimedia artist whose creativity was sparked by her family’s artistic influence. Her work spans drawing\, painting\, jewelry making\, and upcycled art. Juliana’s themes of interest revolve around human anxieties\, transformation\, and finding beauty in overlooked materials.
URL:https://frederickymca.org/event/curiosities-opening-receptions
LOCATION:Y Arts Center\, 115 East Church Street\, Frederick\, Maryland\, 21701
CATEGORIES:Art,Arts & Humanities
ATTACH;FMTTYPE=image/jpeg:https://frederickymca.org/wp-content/uploads/sites/7/2024/11/Curiosities_-Show-Images-12-crop.jpg
END:VEVENT
END:VCALENDAR