BEGIN:VCALENDAR
VERSION:2.0
PRODID:-//Frederick County YMCA - ECPv6.15.12.2//NONSGML v1.0//EN
CALSCALE:GREGORIAN
METHOD:PUBLISH
X-WR-CALNAME:Frederick County YMCA
X-ORIGINAL-URL:https://frederickymca.org
X-WR-CALDESC:Events for Frederick County YMCA
REFRESH-INTERVAL;VALUE=DURATION:PT1H
X-Robots-Tag:noindex
X-PUBLISHED-TTL:PT1H
BEGIN:VTIMEZONE
TZID:UTC
BEGIN:STANDARD
TZOFFSETFROM:+0000
TZOFFSETTO:+0000
TZNAME:UTC
DTSTART:20220101T000000
END:STANDARD
END:VTIMEZONE
BEGIN:VEVENT
DTSTART;TZID=UTC:20230520T100000
DTEND;TZID=UTC:20230520T150000
DTSTAMP:20260421T121105
CREATED:20230428T163343Z
LAST-MODIFIED:20230515T155232Z
UID:7876-1684576800-1684594800@frederickymca.org
SUMMARY:Teen Mentor Program Car Wash
DESCRIPTION:Please come out and support our Teen Mentor Programs by getting your car washed by the young women in The Who Run The World G.I.R.L.S. Program- and the young men in The Upward Program (UP). Both mentor programs are for youth ages 11-17\, and they are both designed to help young people navigate the complications of adolescents. \n \nYour donations help us offset the cost of these programs to make them accessible to any young man or woman that would like to be a part of them. \n \nSome of the benefits of Mentor programs include: \n\n\nIncreased high school graduation rates.\nLower high school dropout rates.\nHealthier relationships and lifestyle choices.\nBetter attitude about school.\nHigher college enrollment rates and higher educational aspirations.\nEnhanced self-esteem and self-confidence.\n\nCan’t attend this event and still want to donate? \nDonate Here \n \nWhen: Saturday\, May 20th\, from 10 am-3 pm. \n\nWhere: Parking Lot of The YMCA OF Downtown Frederick\, 1000 N. Market St. Frederick\, Md. 21701
URL:https://frederickymca.org/event/teen-mentor-program-car-wash
LOCATION:YMCA of Frederick County\, 1000 North Market Street\, Frederick\, MD\, 21701\, United States
CATEGORIES:Teen Programming
ATTACH;FMTTYPE=image/jpeg:https://frederickymca.org/wp-content/uploads/sites/7/2023/04/Car-Wash-AdobeStock_231338231.jpg
END:VEVENT
END:VCALENDAR