BEGIN:VCALENDAR
VERSION:2.0
PRODID:-//Frederick County YMCA - ECPv6.15.12.2//NONSGML v1.0//EN
CALSCALE:GREGORIAN
METHOD:PUBLISH
X-WR-CALNAME:Frederick County YMCA
X-ORIGINAL-URL:https://frederickymca.org
X-WR-CALDESC:Events for Frederick County YMCA
REFRESH-INTERVAL;VALUE=DURATION:PT1H
X-Robots-Tag:noindex
X-PUBLISHED-TTL:PT1H
BEGIN:VTIMEZONE
TZID:UTC
BEGIN:STANDARD
TZOFFSETFROM:+0000
TZOFFSETTO:+0000
TZNAME:UTC
DTSTART:20200101T000000
END:STANDARD
END:VTIMEZONE
BEGIN:VEVENT
DTSTART;TZID=UTC:20211204T140000
DTEND;TZID=UTC:20211204T160000
DTSTAMP:20260422T154746
CREATED:20211018T143857Z
LAST-MODIFIED:20211018T160258Z
UID:6796-1638626400-1638633600@frederickymca.org
SUMMARY:Children Cooking Class: Grilled Cheese and Tomato Soup
DESCRIPTION:Children Cooking Class: Grilled Cheese and Tomato Soup\nThese individual 2-hour classes are designed for young chefs to learn the techniques and art of cooking! Our Top Chef Instructor Ben Palker will teach these delicious culinary delights!\n\nMember/Potential Member Rate $35/$45\n\nWho? Ages 6-14\n\nWhat? Crispy gooey grilled cheese\, with an easy oven-roasted veggie tomato soup for any occasion!\n\nWhen? Saturday\, Dec. 4 2-4p.m.\n\nWhere? Y Teaching Kitchen
URL:https://frederickymca.org/event/children-cooking-class-grilled-cheese-and-tomato-soup-2
LOCATION:MD
CATEGORIES:Cooking,Teen Programming
ATTACH;FMTTYPE=image/jpeg:https://frederickymca.org/wp-content/uploads/sites/7/2021/10/grilled-cheese-and-tomato-soup.jpg
END:VEVENT
END:VCALENDAR