BEGIN:VCALENDAR
VERSION:2.0
PRODID:-//Frederick County YMCA - ECPv6.15.12.2//NONSGML v1.0//EN
CALSCALE:GREGORIAN
METHOD:PUBLISH
X-WR-CALNAME:Frederick County YMCA
X-ORIGINAL-URL:https://frederickymca.org
X-WR-CALDESC:Events for Frederick County YMCA
REFRESH-INTERVAL;VALUE=DURATION:PT1H
X-Robots-Tag:noindex
X-PUBLISHED-TTL:PT1H
BEGIN:VTIMEZONE
TZID:UTC
BEGIN:STANDARD
TZOFFSETFROM:+0000
TZOFFSETTO:+0000
TZNAME:UTC
DTSTART:20200101T000000
END:STANDARD
END:VTIMEZONE
BEGIN:VEVENT
DTSTART;TZID=UTC:20210716T190000
DTEND;TZID=UTC:20210716T220000
DTSTAMP:20260422T235340
CREATED:20210708T213331Z
LAST-MODIFIED:20210708T213744Z
UID:6536-1626462000-1626472800@frederickymca.org
SUMMARY:Teens Night Out (Downtown)
DESCRIPTION:Activities include raffles\, movies\, sports tournaments in the gym\, video games\, swimming\, games\, food\, snacks\, and more! Every participant gets raffle tickets with their admission. The last hour is just teens and chaperones in the building.
URL:https://frederickymca.org/event/teens-night-out-downtown
LOCATION:YMCA of Frederick County\, 1000 North Market Street\, Frederick\, MD\, 21701\, United States
CATEGORIES:Teen Programming
ATTACH;FMTTYPE=image/jpeg:https://frederickymca.org/wp-content/uploads/sites/7/2021/07/tno-dty.jpg
END:VEVENT
BEGIN:VEVENT
DTSTART;TZID=UTC:20210723T190000
DTEND;TZID=UTC:20210723T190000
DTSTAMP:20260422T235340
CREATED:20210708T213601Z
LAST-MODIFIED:20210708T213601Z
UID:6541-1627066800-1627066800@frederickymca.org
SUMMARY:Teens Night Out (Natelli Family Y)
DESCRIPTION:TeensActivities include raffles\, movies\, sports tournaments in the gym\, video games\, swimming\, games\, food\, snacks\, and more! Every participant gets raffle tickets with their admission. The last hour is just teens and chaperones in the building.
URL:https://frederickymca.org/event/teens-night-out-natelli-family-y
LOCATION:South County YMCA\, 3481 Campus Drive\, Ijamsville\, Maryland\, 21754
CATEGORIES:Teen Programming
ATTACH;FMTTYPE=image/jpeg:https://frederickymca.org/wp-content/uploads/sites/7/2021/07/TNO-NAT.jpg
END:VEVENT
END:VCALENDAR