BEGIN:VCALENDAR
VERSION:2.0
PRODID:-//Frederick County YMCA - ECPv6.15.12.2//NONSGML v1.0//EN
CALSCALE:GREGORIAN
METHOD:PUBLISH
X-ORIGINAL-URL:https://frederickymca.org
X-WR-CALDESC:Events for Frederick County YMCA
REFRESH-INTERVAL;VALUE=DURATION:PT1H
X-Robots-Tag:noindex
X-PUBLISHED-TTL:PT1H
BEGIN:VTIMEZONE
TZID:UTC
BEGIN:STANDARD
TZOFFSETFROM:+0000
TZOFFSETTO:+0000
TZNAME:UTC
DTSTART:20200101T000000
END:STANDARD
END:VTIMEZONE
BEGIN:VEVENT
DTSTART;TZID=UTC:20210510T180000
DTEND;TZID=UTC:20210510T190000
DTSTAMP:20260423T031530
CREATED:20210426T143922Z
LAST-MODIFIED:20210426T161045Z
UID:6280-1620669600-1620673200@frederickymca.org
SUMMARY:Teen Informational Night
DESCRIPTION:Stop by the South County Family Y with your preteen/teen and hear about summer\, fall\, and winter programs including camps\, volunteer/service hours\, winter sports club\, and much more!\nThis free event is 6-7 pm in the Intergenerational Room\, South County Family Y\nReservations preferred but not required.
URL:https://frederickymca.org/event/teen-informational-night
LOCATION:South County YMCA\, 3481 Campus Drive\, Ijamsville\, Maryland\, 21754
CATEGORIES:Teen Programming
ATTACH;FMTTYPE=image/jpeg:https://frederickymca.org/wp-content/uploads/sites/7/2021/04/Y-leaders-volunteer-teen.jpg
END:VEVENT
END:VCALENDAR