BEGIN:VCALENDAR
VERSION:2.0
PRODID:-//Frederick County YMCA - ECPv6.15.12.2//NONSGML v1.0//EN
CALSCALE:GREGORIAN
METHOD:PUBLISH
X-WR-CALNAME:Frederick County YMCA
X-ORIGINAL-URL:https://frederickymca.org
X-WR-CALDESC:Events for Frederick County YMCA
REFRESH-INTERVAL;VALUE=DURATION:PT1H
X-Robots-Tag:noindex
X-PUBLISHED-TTL:PT1H
BEGIN:VTIMEZONE
TZID:UTC
BEGIN:STANDARD
TZOFFSETFROM:+0000
TZOFFSETTO:+0000
TZNAME:UTC
DTSTART:20230101T000000
END:STANDARD
END:VTIMEZONE
BEGIN:VEVENT
DTSTART;TZID=UTC:20241022T113000
DTEND;TZID=UTC:20241022T130000
DTSTAMP:20260423T013321
CREATED:20240830T152248Z
LAST-MODIFIED:20240918T135339Z
UID:8732-1729596600-1729602000@frederickymca.org
SUMMARY:Cooking Class
DESCRIPTION:REGISTER NOW! \nChristine Pelletier is a Dietitian for Weis Supermarkets. She will be teaching a cooking class that every person will participate in.  Each person will make tuna salad lettuce wraps and Pumpkin Dip!  Space is limited for this event.  Please register at the desk or online  \nTues.\, October 22 11:30-1pm \nMember/Potential Member FREE
URL:https://frederickymca.org/event/cooking-class
LOCATION:Natelli Family Y\, 3481 Campus Drive\, ljamsville\, 21754\, United States
CATEGORIES:Active Older Adults,Cooking,Healthy Living
ATTACH;FMTTYPE=image/png:https://frederickymca.org/wp-content/uploads/sites/7/2024/08/Cooking-Class-1.png
END:VEVENT
END:VCALENDAR