BEGIN:VCALENDAR
VERSION:2.0
PRODID:-//Frederick County YMCA - ECPv6.15.12.2//NONSGML v1.0//EN
CALSCALE:GREGORIAN
METHOD:PUBLISH
X-ORIGINAL-URL:https://frederickymca.org
X-WR-CALDESC:Events for Frederick County YMCA
REFRESH-INTERVAL;VALUE=DURATION:PT1H
X-Robots-Tag:noindex
X-PUBLISHED-TTL:PT1H
BEGIN:VTIMEZONE
TZID:UTC
BEGIN:STANDARD
TZOFFSETFROM:+0000
TZOFFSETTO:+0000
TZNAME:UTC
DTSTART:20220101T000000
END:STANDARD
END:VTIMEZONE
BEGIN:VEVENT
DTSTART;TZID=UTC:20230722T140000
DTEND;TZID=UTC:20230722T160000
DTSTAMP:20260424T001523
CREATED:20230608T175749Z
LAST-MODIFIED:20230608T175749Z
UID:7916-1690034400-1690041600@frederickymca.org
SUMMARY:Children's Cooking: Garden Salad w Chicken & Chocolate Cupcake
DESCRIPTION:Ages 6-14 \nThis individual 2 hour class is designed for young chefs to learn the techniques and art of cooking! \nThis class will include a salad with greens\, peppers\, onion\, and carrot with home-made lemon vinaigrette. Top it off with a double chocolate mug cake\, whipped cream\, and a strawberry. \nRegister online or in person.
URL:https://frederickymca.org/event/childrens-cooking-garden-salad-w-chicken-chocolate-cupcake
LOCATION:Natelli Family Y\, 3481 Campus Drive\, ljamsville\, 21754\, United States
CATEGORIES:Arts & Humanities,Cooking
END:VEVENT
END:VCALENDAR