BEGIN:VCALENDAR
VERSION:2.0
PRODID:-//Frederick County YMCA - ECPv6.15.12.2//NONSGML v1.0//EN
CALSCALE:GREGORIAN
METHOD:PUBLISH
X-WR-CALNAME:Frederick County YMCA
X-ORIGINAL-URL:https://frederickymca.org
X-WR-CALDESC:Events for Frederick County YMCA
REFRESH-INTERVAL;VALUE=DURATION:PT1H
X-Robots-Tag:noindex
X-PUBLISHED-TTL:PT1H
BEGIN:VTIMEZONE
TZID:UTC
BEGIN:STANDARD
TZOFFSETFROM:+0000
TZOFFSETTO:+0000
TZNAME:UTC
DTSTART:20200101T000000
END:STANDARD
END:VTIMEZONE
BEGIN:VEVENT
DTSTART;TZID=UTC:20210824T140000
DTEND;TZID=UTC:20210824T160000
DTSTAMP:20260425T125710
CREATED:20210709T180028Z
LAST-MODIFIED:20210709T180028Z
UID:6557-1629813600-1629820800@frederickymca.org
SUMMARY:Children Cooking Class: Grilled Cheese and Tomato Soup
DESCRIPTION:Children Cooking Classes\nAges 6-14\nThese individual 2-hour classes are designed for young chefs to learn the techniques and art of cooking! Our Top Chef Instructor Ben Palker will teach these delicious culinary delights! \nGrilled Cheese and Tomato Soup: Crispy gooey grilled cheese\, with an easy oven roasted veggie tomato soup for any occasion! \nMember/Potential Member Rate $35/$45
URL:https://frederickymca.org/event/children-cooking-class-grilled-cheese-and-tomato-soup
LOCATION:Y Teaching Kitchen\, 629 North Market Street\, Frederick\, Maryland\, 21701
CATEGORIES:Cooking
ATTACH;FMTTYPE=image/jpeg:https://frederickymca.org/wp-content/uploads/sites/7/2021/07/grilled-cheese-and-tomato-soup.jpg
END:VEVENT
END:VCALENDAR