BEGIN:VCALENDAR
VERSION:2.0
PRODID:-//Frederick County YMCA - ECPv6.15.12.2//NONSGML v1.0//EN
CALSCALE:GREGORIAN
METHOD:PUBLISH
X-ORIGINAL-URL:https://frederickymca.org
X-WR-CALDESC:Events for Frederick County YMCA
REFRESH-INTERVAL;VALUE=DURATION:PT1H
X-Robots-Tag:noindex
X-PUBLISHED-TTL:PT1H
BEGIN:VTIMEZONE
TZID:UTC
BEGIN:STANDARD
TZOFFSETFROM:+0000
TZOFFSETTO:+0000
TZNAME:UTC
DTSTART:20200101T000000
END:STANDARD
END:VTIMEZONE
BEGIN:VEVENT
DTSTART;TZID=UTC:20210205T173000
DTEND;TZID=UTC:20210205T203000
DTSTAMP:20260425T223515
CREATED:20201216T190830Z
LAST-MODIFIED:20210107T214038Z
UID:6095-1612546200-1612557000@frederickymca.org
SUMMARY:Adult Cooking Class: Seared Tuna Platter
DESCRIPTION:Seared Tuna Platter will include sesame-crusted seared tuna\, braised bok choi\, wasabi pea puree\, cilantro lime mung bean salad.\nAges 18+\n\nThese three-hour classes are a great opportunity for couples and individuals to learn new and exciting culinary techniques and recipes! Master Chef Ben Palker will guide you through the steps and at the end of the evening\, sit back and enjoy your culinary creations in our beautiful YMCA Teaching Kitchen!\n\nBen Palker is the Head Culinary Instructor at the Teaching Kitchen at the YMCA in Frederick. His mission is to empower the community with the joy of cooking! Ben Believes that food can empower and bring people together. Ben has over a decade of formal culinary training and has been teaching all ages for more than 12 years. He has a deep understanding of how food affects your body\, mind\, and attitude\, and the importance for our community to become “Food Literate.” Taking one of his classes will be an experience you and your taste buds will never forget!
URL:https://frederickymca.org/event/adult-cooking-class-seared-tuna-platter
LOCATION:Y Teaching Kitchen\, 629 North Market Street\, Frederick\, Maryland\, 21701
CATEGORIES:Cooking
ATTACH;FMTTYPE=image/jpeg:https://frederickymca.org/wp-content/uploads/sites/7/2020/12/Seared-Tuna-Platter-facebook.jpg
END:VEVENT
BEGIN:VEVENT
DTSTART;TZID=UTC:20210206T140000
DTEND;TZID=UTC:20210206T160000
DTSTAMP:20260425T223515
CREATED:20201216T191054Z
LAST-MODIFIED:20210107T213853Z
UID:6096-1612620000-1612627200@frederickymca.org
SUMMARY:Kids Cooking Class: Avocado Toast & Fruit Smoothie
DESCRIPTION:Avocado toast followed with a smoothie with mixed berries\, yogurt\, banana\, soy milk\, and honey\n\nAges 6-14\n\nThis individual 2-hour class is designed for young chefs to work alongside our Top Chef instructor\, Ben Palker! Learn the art of cooking and enjoy your culinary creations. This class will include whole grain bread\, avocado\, lemon\, garlic\, sesame\, lemon; smoothie with mixed berries\, yogurt\, banana\, soy milk\, and honey.\n\nBen Palker is the Head Culinary Instructor at the Teaching Kitchen at the YMCA in Frederick. His mission is to empower the community with the joy of cooking! Ben Believes that food can empower and bring people together. Ben has over a decade of formal culinary training and has been teaching all ages for more than 12 years. He has a deep understanding of how food affects your body\, mind\, and attitude\, and the importance for our community to become “Food Literate”. Taking one of his classes will be an experience you and your taste buds will never forget!
URL:https://frederickymca.org/event/kids-cooking-class-avocado-toast-fruit-smoothie
LOCATION:Y Teaching Kitchen\, 629 North Market Street\, Frederick\, Maryland\, 21701
CATEGORIES:Cooking
ATTACH;FMTTYPE=image/jpeg:https://frederickymca.org/wp-content/uploads/sites/7/2020/12/avocado-toast-facebook.jpg
END:VEVENT
BEGIN:VEVENT
DTSTART;TZID=UTC:20210212T173000
DTEND;TZID=UTC:20210212T173000
DTSTAMP:20260425T223515
CREATED:20201216T193010Z
LAST-MODIFIED:20210107T214001Z
UID:6097-1613151000-1613151000@frederickymca.org
SUMMARY:Adult Cooking Class: Pate Choux
DESCRIPTION:Cream puff swans\, Chocolate eclairs\, and a Pate Choux Tower\nAges: 18+\n\nThese three-hour classes are a great opportunity for couples and individuals to learn new and exciting culinary techniques and recipes! Master Chef Ben Palker will guide you through the steps and at the end of the evening\, sit back and enjoy your culinary creations in our beautiful YMCA Teaching Kitchen!\n\nBen Palker is the Head Culinary Instructor at the Teaching Kitchen at the YMCA in Frederick. His mission is to empower the community with the joy of cooking! Ben Believes that food can empower and bring people together. Ben has over a decade of formal culinary training and has been teaching all ages for more than 12 years. He has a deep understanding of how food affects your body\, mind\, and attitude\, and the importance for our community to become “Food Literate”. Taking one of his classes will be an experience you and your taste buds will never forget!
URL:https://frederickymca.org/event/adult-cooking-class-pate-choux
LOCATION:Y Teaching Kitchen\, 629 North Market Street\, Frederick\, Maryland\, 21701
CATEGORIES:Cooking
ATTACH;FMTTYPE=image/jpeg:https://frederickymca.org/wp-content/uploads/sites/7/2020/12/chocolate-eclair.jpg
END:VEVENT
END:VCALENDAR