BEGIN:VCALENDAR
VERSION:2.0
PRODID:-//Frederick County YMCA - ECPv6.15.12.2//NONSGML v1.0//EN
CALSCALE:GREGORIAN
METHOD:PUBLISH
X-ORIGINAL-URL:https://frederickymca.org
X-WR-CALDESC:Events for Frederick County YMCA
REFRESH-INTERVAL;VALUE=DURATION:PT1H
X-Robots-Tag:noindex
X-PUBLISHED-TTL:PT1H
BEGIN:VTIMEZONE
TZID:UTC
BEGIN:STANDARD
TZOFFSETFROM:+0000
TZOFFSETTO:+0000
TZNAME:UTC
DTSTART:20240101T000000
END:STANDARD
END:VTIMEZONE
BEGIN:VEVENT
DTSTART;TZID=UTC:20250320T150000
DTEND;TZID=UTC:20250320T180000
DTSTAMP:20260424T052946
CREATED:20240130T153555Z
LAST-MODIFIED:20250203T145150Z
UID:8254-1742482800-1742493600@frederickymca.org
SUMMARY:YMCA Job Fair at the Natelli Family Y
DESCRIPTION:Job Fair\nThurs.\, March 20\, 3-6pm\nNatelli Family Y \nFind More Than A Job. Find Your Y. Working at the Y\, you’ll find more than a just a job. You’ll find opportunities to reach your potential while making a positive impact in your community. Several part-time\, full-time\, and seasonal jobs are posted on the YMCA of Frederick County website. \n  \n 
URL:https://frederickymca.org/event/ymca-job-fair-2
LOCATION:Natelli Family Y\, 3481 Campus Drive\, ljamsville\, 21754\, United States
CATEGORIES:Human Resources
END:VEVENT
END:VCALENDAR