BEGIN:VCALENDAR
VERSION:2.0
PRODID:-//Frederick County YMCA - ECPv6.15.12.2//NONSGML v1.0//EN
CALSCALE:GREGORIAN
METHOD:PUBLISH
X-WR-CALNAME:Frederick County YMCA
X-ORIGINAL-URL:https://frederickymca.org
X-WR-CALDESC:Events for Frederick County YMCA
REFRESH-INTERVAL;VALUE=DURATION:PT1H
X-Robots-Tag:noindex
X-PUBLISHED-TTL:PT1H
BEGIN:VTIMEZONE
TZID:UTC
BEGIN:STANDARD
TZOFFSETFROM:+0000
TZOFFSETTO:+0000
TZNAME:UTC
DTSTART:20240101T000000
END:STANDARD
END:VTIMEZONE
BEGIN:VEVENT
DTSTART;TZID=UTC:20250419T190000
DTEND;TZID=UTC:20250419T210000
DTSTAMP:20260420T193722
CREATED:20250406T163711Z
LAST-MODIFIED:20250406T163711Z
UID:9264-1745089200-1745096400@frederickymca.org
SUMMARY:String Theories: New Music for String Instruments
DESCRIPTION:Saturday\, April 19\nJacqueline Kerrod\, harp\, and Joe Morris\, guitar\nSouth African harpist Jacqueline Kerrod has performed with everyone from Chamber Music Society of Lincoln Center and NEA Jazz Master Anthony Braxton to Rufus Wainwright and Jane Birkin. She has premiered more than a dozen works written for her by South African composers. In her solo music\, Kerrod has made innovative use of electronics. Her CD with cornetist Taylor Ho Bynum\, Simple Ways Such Self\, documents their 2023 performance as part of FEMA’s IF: Improvisers Forum series\, presented at the Frederick YMCA Arts Center.\n\nJoe Morris is one of the more innovative guitarists to emerge in the past 40 years\, integrating African\, Asian\, and Eastern European influences into a singular vocabulary. Appearing on nearly 200 recordings playing guitar or double bass\, Morris has been on the faculty of the New England Conservatory of Music since 2000. He is the author of Perpetual Frontier: The Properties of Free Music\, published in 2012.\n\n————————\nProduced by Frederick Experimental Music AssociationFrederick YMCA Arts Center115 East Church Street\nThis series is made possible by the generous support of The Delaplaine Foundation and Plamondon Hospitality Group\nDoors 7:00 pm/Artists Conversation 7:30/Concert 8:00\nTickets for each concert: $20
URL:https://frederickymca.org/event/string-theories-new-music-for-string-instruments-2
LOCATION:Y Arts Center\, 115 East Church Street\, Frederick\, Maryland\, 21701
CATEGORIES:Arts & Humanities,Music
END:VEVENT
END:VCALENDAR