BEGIN:VCALENDAR
VERSION:2.0
PRODID:-//Frederick County YMCA - ECPv6.15.12.2//NONSGML v1.0//EN
CALSCALE:GREGORIAN
METHOD:PUBLISH
X-ORIGINAL-URL:https://frederickymca.org
X-WR-CALDESC:Events for Frederick County YMCA
REFRESH-INTERVAL;VALUE=DURATION:PT1H
X-Robots-Tag:noindex
X-PUBLISHED-TTL:PT1H
BEGIN:VTIMEZONE
TZID:UTC
BEGIN:STANDARD
TZOFFSETFROM:+0000
TZOFFSETTO:+0000
TZNAME:UTC
DTSTART:20230101T000000
END:STANDARD
END:VTIMEZONE
BEGIN:VEVENT
DTSTART;TZID=UTC:20240727T193000
DTEND;TZID=UTC:20240727T213000
DTSTAMP:20260421T104615
CREATED:20240722T155455Z
LAST-MODIFIED:20240722T155455Z
UID:8606-1722108600-1722115800@frederickymca.org
SUMMARY:Jazz in Frederick: Quentin Walston Trio
DESCRIPTION:Join the Quentin Walston Trio for an unforgettable jazz night\, featuring timeless classics from Ellington to Sinatra to Thelonious Monk\, alongside captivating originals from their latest album\, “Retro Future.” Deepen your love of jazz with Quentin Walston’s engaging insights and celebration of jazz history\, making this concert a must-see for all music lovers!\n$15 at door\n\n\n(photo by Ronald Parke)
URL:https://frederickymca.org/event/jazz-in-frederick-quentin-walston-trio
LOCATION:Y Arts Center\, 115 East Church Street\, Frederick\, Maryland\, 21701
CATEGORIES:Arts & Humanities,Music
ATTACH;FMTTYPE=image/jpeg:https://frederickymca.org/wp-content/uploads/sites/7/2024/07/jazz-trio.jpg
END:VEVENT
END:VCALENDAR