BEGIN:VCALENDAR
VERSION:2.0
PRODID:-//Frederick County YMCA - ECPv6.15.12.2//NONSGML v1.0//EN
CALSCALE:GREGORIAN
METHOD:PUBLISH
X-WR-CALNAME:Frederick County YMCA
X-ORIGINAL-URL:https://frederickymca.org
X-WR-CALDESC:Events for Frederick County YMCA
REFRESH-INTERVAL;VALUE=DURATION:PT1H
X-Robots-Tag:noindex
X-PUBLISHED-TTL:PT1H
BEGIN:VTIMEZONE
TZID:UTC
BEGIN:STANDARD
TZOFFSETFROM:+0000
TZOFFSETTO:+0000
TZNAME:UTC
DTSTART:20230101T000000
END:STANDARD
END:VTIMEZONE
BEGIN:VEVENT
DTSTART;TZID=UTC:20240510T193000
DTEND;TZID=UTC:20240510T210000
DTSTAMP:20260421T134833
CREATED:20240212T153358Z
LAST-MODIFIED:20240212T153600Z
UID:8319-1715369400-1715374800@frederickymca.org
SUMMARY:Pianoscapes Jazz Concert: Angelica Sanchez
DESCRIPTION:Jazz concert series at the YMCA’s Arts Center (115 East Church St\, Frederick MD) showcasing unique groups traveling into Frederick to play in Pianoscapes. \nOpen to all ages.  There is a $20 general admission at the door.  Doors open at 7:30pm and the concert will start at 8pm. \nAngelica Sanchez\nFriday\, May 10 \nPianist/Composer/Educator Angelica Sanchez moved to New York from Arizona in 1994. Since moving to the East Coast Sanchez has collaborated with such notable artists as Wadada Leo Smith\, Paul Motian\, and Richard Davis\, among others. Sanchez leads numerous groups\, the most recent being her Trio with Michael Formanek and Billy Hart and her Nonet.\nHer music has been recognized in national and international publications including Jazz Times\, The New York Times\, and The Chicago Tribune. She was also the 2008 recipient of a French/American Chamber Music America grant\, the 2011 Rockefeller Brothers Pocantico artist residency\, and the 2021 Civitella Ranieri Fellowship\, Italy. \nSanchez’s recordings have won critical praise since Sanchez’s debut solo CD A Little House was featured on NPR’s Weekend Edition. More recently\, her piano duo How to Turn the Moon with Marilyn Crispell was voted as one of the top 50 best recordings in the 2020 NPR critics poll. Sparkle Beings\, featuring her trio with Michael Formanek and Billy Hart\, was chosen by The New York Times as one of the top ten Jazz recordings of 2022. And the recently issued Night Creatures\, the debut album of her Nonet\, was enthusiastically reviewed by NPR’s Kevin Whitehead. \nAngelica Sanchez has a Masters Degree in Arranging from William Paterson University. She is currently on faculty at Bard College.
URL:https://frederickymca.org/event/pianoscapes-jazz-concert-angelica-sanchez
LOCATION:Y Arts Center\, 115 East Church Street\, Frederick\, Maryland\, 21701
CATEGORIES:Arts & Humanities,Music
ATTACH;FMTTYPE=image/png:https://frederickymca.org/wp-content/uploads/sites/7/2024/01/Angelica-Sanchez.png
END:VEVENT
END:VCALENDAR