BEGIN:VCALENDAR
VERSION:2.0
PRODID:-//Frederick County YMCA - ECPv6.15.12.2//NONSGML v1.0//EN
CALSCALE:GREGORIAN
METHOD:PUBLISH
X-ORIGINAL-URL:https://frederickymca.org
X-WR-CALDESC:Events for Frederick County YMCA
REFRESH-INTERVAL;VALUE=DURATION:PT1H
X-Robots-Tag:noindex
X-PUBLISHED-TTL:PT1H
BEGIN:VTIMEZONE
TZID:UTC
BEGIN:STANDARD
TZOFFSETFROM:+0000
TZOFFSETTO:+0000
TZNAME:UTC
DTSTART:20230101T000000
END:STANDARD
END:VTIMEZONE
BEGIN:VEVENT
DTSTART;TZID=UTC:20240316T193000
DTEND;TZID=UTC:20240316T210000
DTSTAMP:20260421T171352
CREATED:20240117T150731Z
LAST-MODIFIED:20240212T153422Z
UID:8210-1710617400-1710622800@frederickymca.org
SUMMARY:Pianoscapes Jazz Concert: Alexander Hawkins
DESCRIPTION:Jazz concert series at the YMCA’s Arts Center (115 East Church St\, Frederick MD) showcasing unique groups traveling into Frederick to play in Pianoscapes. \nOpen to all ages.  There is a $20 general admission at the door.  Doors open at 7:30pm and the concert will start at 8pm. \nSat.\, March 16: Alexander Hawkins \nAlexander Hawkins is an Oxford UK-based composer\, pianist\, organist\, and bandleader. Working in a vast array of creative contexts\, he seeks to reconcile both a love of free improvisation and a fascination with composition and structure. \nHis writing has been said to represent “a fundamental reassertion of composition within improvised music\,” and his voice one of the “most vividly distinctive … in modern jazz.” As a pianist\, he has been praised for “possessing staggering technical ability and a fecund imagination as both player and composer.” Brian Morton\, co-author of The Penguin Guide to Jazz\, calls Hawkins “the most interesting Hammond [organ] player of the last decade and more.” \nIn addition to his solo concerts\, Hawkins performs in duos with Nicole Mitchell\, Evan Parker\, and Tomeka Reid. His trio\, quartet co-led with vocalist Elaine Mitchener\, and larger ensembles receive enthusiastic reviews throughout Europe. Togetherness Music\, released in January 2021\, has been called a masterpiece that stands next to the best works of Roscoe Mitchell and Anthony Braxton. \nIn 2012\, he was chosen as a member of the first edition of the London Symphony Orchestra’s “Soundhub” program for young composers. He has been widely commissioned by the likes of the BBC\, and has performed festivals in Berlin\, Chicago\, and London and venues such as the South Bank Centre and the Pierre Boulez Saal. He was named “Instrumentalist of the Year” in the 2016 Parliamentary Jazz Awards. In 2018\, he was elected a fellow of the Civitella Ranieri.\nHawkins’ concert will be his first on the East Coast.
URL:https://frederickymca.org/event/pianoscapes-jazz-concert
LOCATION:Y Arts Center\, 115 East Church Street\, Frederick\, Maryland\, 21701
CATEGORIES:Arts & Humanities,Music
ATTACH;FMTTYPE=image/png:https://frederickymca.org/wp-content/uploads/sites/7/2024/01/alexander_hawkins.png
END:VEVENT
END:VCALENDAR