BEGIN:VCALENDAR
VERSION:2.0
PRODID:-//Frederick County YMCA - ECPv6.15.12.2//NONSGML v1.0//EN
CALSCALE:GREGORIAN
METHOD:PUBLISH
X-WR-CALNAME:Frederick County YMCA
X-ORIGINAL-URL:https://frederickymca.org
X-WR-CALDESC:Events for Frederick County YMCA
REFRESH-INTERVAL;VALUE=DURATION:PT1H
X-Robots-Tag:noindex
X-PUBLISHED-TTL:PT1H
BEGIN:VTIMEZONE
TZID:UTC
BEGIN:STANDARD
TZOFFSETFROM:+0000
TZOFFSETTO:+0000
TZNAME:UTC
DTSTART:20220101T000000
END:STANDARD
END:VTIMEZONE
BEGIN:VEVENT
DTSTART;TZID=UTC:20230826T160000
DTEND;TZID=UTC:20230826T180000
DTSTAMP:20260422T045745
CREATED:20230722T183250Z
LAST-MODIFIED:20230823T173841Z
UID:7913-1693065600-1693072800@frederickymca.org
SUMMARY:Jazz Concert-The Weather People
DESCRIPTION:Saturday\, July 8\nY Arts Center \n4pm-6pm\n\nWhat do you get when you bring together one trombone\, one trumpet\, two saxophones\, and four excellent and adventurous musicians? One tight\, multi-faceted\, and dynamic group playing tunes that are exciting\, unpredictable\, edgy\, and fun. That’s The Weather People. This horn quartet plays original compositions and arrangements by trombonist Cam Millar\, inspired by all manner of musical genres and eras of horn-driven music. Listen long enough and you’ll encounter influences from jazz\, rock\, Latin\, classical/art music\, James Brown\, Blood Sweat and Tears\, Earth Wind and Fire\, Chicago\, Stravinsky\, John Williams\, Tito Puente\, Duke Ellington\, Mozart\, and more. Did we say eclectic?\n\nWith support from the Maryland State Arts Council\, this group came together mid-pandemic in order to safely perform live in outdoor settings for music-starved audiences. Their debut album\, “Current Conditions\,” was released in January 2022. The Weather People have performed in Frederick\, Boonsboro\, and Hagerstown\, MD\, and in Shepherdstown\, WV.\n\nThese four musicians are well known throughout the MD and DC music scene\, all of them having played with many of the regions leading jazz and classical ensembles.\n\nAll are welcome! A $10 donation is suggested at the door.
URL:https://frederickymca.org/event/jazz-concert-the-weather-people
LOCATION:Maryland
CATEGORIES:Arts & Humanities,Music
END:VEVENT
END:VCALENDAR