BEGIN:VCALENDAR
VERSION:2.0
PRODID:-//Frederick County YMCA - ECPv6.15.12.2//NONSGML v1.0//EN
CALSCALE:GREGORIAN
METHOD:PUBLISH
X-ORIGINAL-URL:https://frederickymca.org
X-WR-CALDESC:Events for Frederick County YMCA
REFRESH-INTERVAL;VALUE=DURATION:PT1H
X-Robots-Tag:noindex
X-PUBLISHED-TTL:PT1H
BEGIN:VTIMEZONE
TZID:UTC
BEGIN:STANDARD
TZOFFSETFROM:+0000
TZOFFSETTO:+0000
TZNAME:UTC
DTSTART:20210101T000000
END:STANDARD
END:VTIMEZONE
BEGIN:VEVENT
DTSTART;TZID=UTC:20221120T120000
DTEND;TZID=UTC:20221120T130000
DTSTAMP:20260421T025450
CREATED:20221114T173147Z
LAST-MODIFIED:20221114T173147Z
UID:7560-1668945600-1668949200@frederickymca.org
SUMMARY:Lure Artist Talk (Zoom)
DESCRIPTION:Gallery 115\, located in Frederick\, MD\, provides opportunities to explore\, celebrate and engage in the arts\, announces LORE: a multimedia art exhibition that reimagines traditional folklore and explores\ncontemporary original myth. \nArtists included in this exhibition are: \n\nAnnie Braunschweig – Maryland\,\nSara Caporaletti – Maryland\,\nYoung Grace Cho – NYC\,\nDon Coomes – Maryland\,\nAmelia Foster – NYC\,\nDom Holmes – London\,\nNick Kaplony – London\,\nNima Javan – London\,\nFlorence Alfano McEwin – Wyoming\,\nJillian Abir MacMaster – Maryland\,\nJamie Seerman – NYC\,\nCourtney Treglia – NYC\,\nMarianne Walker – London\,\nWeihan Zhou – NYC\,\nRobert Zurer – NYC / Philadelphia.\n\nCurated by Rula Jones.
URL:https://frederickymca.org/event/lure-artist-talk-zoom
LOCATION:Virtual
CATEGORIES:Arts & Humanities,Gallery 115
ATTACH;FMTTYPE=image/png:https://frederickymca.org/wp-content/uploads/sites/7/2022/09/Lore.png
END:VEVENT
END:VCALENDAR