BEGIN:VCALENDAR
VERSION:2.0
PRODID:-//Frederick County YMCA - ECPv6.15.12.2//NONSGML v1.0//EN
CALSCALE:GREGORIAN
METHOD:PUBLISH
X-ORIGINAL-URL:https://frederickymca.org
X-WR-CALDESC:Events for Frederick County YMCA
REFRESH-INTERVAL;VALUE=DURATION:PT1H
X-Robots-Tag:noindex
X-PUBLISHED-TTL:PT1H
BEGIN:VTIMEZONE
TZID:UTC
BEGIN:STANDARD
TZOFFSETFROM:+0000
TZOFFSETTO:+0000
TZNAME:UTC
DTSTART:20210101T000000
END:STANDARD
END:VTIMEZONE
BEGIN:VEVENT
DTSTART;TZID=UTC:20220702T180000
DTEND;TZID=UTC:20220702T200000
DTSTAMP:20260421T094330
CREATED:20220513T131647Z
LAST-MODIFIED:20220608T155458Z
UID:7391-1656784800-1656792000@frederickymca.org
SUMMARY:GRAFFIATO Reception
DESCRIPTION:GRAFFIATO invites the Frederick\, Maryland community to use chalk to express themselves through text and drawings within an interior gallery space that has been transformed with black chalk paper. Local artists have also been invited to contribute. \nAdditionally\, documentation of the room will occur through a single photograph taken in the same place every day. This\, in turn\, will be used to create a stop-motion film that will be presented during the reception.
URL:https://frederickymca.org/event/graffiato-reception
LOCATION:Y Arts Center\, 115 East Church Street\, Frederick\, Maryland\, 21701
CATEGORIES:Gallery 115
ATTACH;FMTTYPE=image/jpeg:https://frederickymca.org/wp-content/uploads/sites/7/2022/05/Graffiato-cropped.jpg
END:VEVENT
END:VCALENDAR