BEGIN:VCALENDAR
VERSION:2.0
PRODID:-//Frederick County YMCA - ECPv6.15.12.2//NONSGML v1.0//EN
CALSCALE:GREGORIAN
METHOD:PUBLISH
X-WR-CALNAME:Frederick County YMCA
X-ORIGINAL-URL:https://frederickymca.org
X-WR-CALDESC:Events for Frederick County YMCA
REFRESH-INTERVAL;VALUE=DURATION:PT1H
X-Robots-Tag:noindex
X-PUBLISHED-TTL:PT1H
BEGIN:VTIMEZONE
TZID:UTC
BEGIN:STANDARD
TZOFFSETFROM:+0000
TZOFFSETTO:+0000
TZNAME:UTC
DTSTART:20200101T000000
END:STANDARD
END:VTIMEZONE
BEGIN:VEVENT
DTSTART;TZID=UTC:20210808T130000
DTEND;TZID=UTC:20210808T140000
DTSTAMP:20260422T032039
CREATED:20210702T153627Z
LAST-MODIFIED:20210706T194224Z
UID:6524-1628427600-1628431200@frederickymca.org
SUMMARY:BLOOM: Virtual Artist Talk
DESCRIPTION:The Merriam Webster Dictionary defines Bloom in the verb form as to produce or yield flowers; to support abundant plant life\, to mature into the achievement of one’s potential\, to flourish in beauty\, freshness\, or excellence; to shine out; to become more apparent or fully expressed\, to appear or occur unexpectedly in remarkable quantity or degree\, to become densely populated with microorganisms; etc. Artists were encouraged to submit works for consideration that respond\, relate or interpret the word Bloom within the critical contemporary context of our world today. \nThe exhibition has drawn 17 artists from the MidAtlantic area including Maryland\, New York\, and New Jersey to exhibit in historic downtown Frederick\, Maryland. \n“The artists in this exhibition have a kinship to nature and express it through a variety of ways. They recreate it through direct observation or memory\, utilize it as a metaphor for narratives of the present and past\, declare their absolute oneness with it\, know it as a spiritual pathway or convey it through the artifice to allude to our species’ superficiality\,” says Rula Jones\, Gallery 115 Curator. \nArtists in the Exhibition include: \n\nKarin Birch\nRoberto Bocci\nCraig Cavin\nTravis Childers\nNicole Cohen\nGay P. Cox \nStephen Dill\nJennie Gallaine\nWeina Li\nSheryl Massaro\nJessye McDowell\nTim McLoraine\nPatricia O’Brien\nLisa Sheirer\nDavid Straange\nKatherine Verdickt\nCathy Wilkin
URL:https://frederickymca.org/event/bloom-virtual-artist-talk
LOCATION:Maryland
CATEGORIES:Gallery 115
ATTACH;FMTTYPE=image/jpeg:https://frederickymca.org/wp-content/uploads/sites/7/2021/06/Bloom-After-huysum-jessye-mcdowell-facebook.jpg
END:VEVENT
END:VCALENDAR