BEGIN:VCALENDAR
VERSION:2.0
PRODID:-//Frederick County YMCA - ECPv6.15.12.2//NONSGML v1.0//EN
CALSCALE:GREGORIAN
METHOD:PUBLISH
X-ORIGINAL-URL:https://frederickymca.org
X-WR-CALDESC:Events for Frederick County YMCA
REFRESH-INTERVAL;VALUE=DURATION:PT1H
X-Robots-Tag:noindex
X-PUBLISHED-TTL:PT1H
BEGIN:VTIMEZONE
TZID:UTC
BEGIN:STANDARD
TZOFFSETFROM:+0000
TZOFFSETTO:+0000
TZNAME:UTC
DTSTART:20200101T000000
END:STANDARD
END:VTIMEZONE
BEGIN:VEVENT
DTSTART;TZID=UTC:20210710T190000
DTEND;TZID=UTC:20210710T210000
DTSTAMP:20260422T045933
CREATED:20210609T120400Z
LAST-MODIFIED:20210707T150458Z
UID:6486-1625943600-1625950800@frederickymca.org
SUMMARY:Bloom Art Exhibit Opening Reception
DESCRIPTION:The Merriam Webster Dictionary defines Bloom in the verb form as to produce or yield flowers; to support abundant plant life\, to mature into the achievement of one’s potential\, to flourish in beauty\, freshness\, or excellence; to shine out; to become more apparent or fully expressed\, to appear or occur unexpectedly in remarkable quantity or degree\, to become densely populated with microorganisms; etc. Artists were encouraged to submit works for consideration that respond\, relate or interpret the word Bloom within the critical contemporary context of our world today. \nThe exhibition has drawn 17 artists from the MidAtlantic area including Maryland\, New York\, and New Jersey to exhibit right here in historic downtown Frederick\, Maryland. \n“The artists in this exhibition have a kinship to nature and express it through a variety of ways. They recreate it through direct observation or memory\, utilize it as a metaphor for narratives of the present and past\, declare their absolute oneness with it\, know it as a spiritual pathway or convey it through the artifice to allude to our species’ superficiality\,” says Rula Jones\, Gallery 115 Curator. \nArtists in the Exhibition include: \n\nKarin Birch\nRoberto Bocci\nCraig Cavin\nTravis Childers\nNicole Cohen\nGay P. Cox \nStephen Dill\nJennie Gallaine\nWeina Li\nSheryl Massaro\nJessye McDowell\nTim McLoraine\nPatricia O’Brien\nLisa Sheirer\nDavid Straange\nKatherine Verdickt\nCathy Wilkin\n\n“Future Sets Series: After Huysum”Jesse McDowellDigital print of 3D modeled image202132.5″x39″ \nJennie Gallaine\, a French artist in the United States for the past two years says about her work\, “…I had to establish new roots and find a new sense of place. I realized that my art had changed here and was guided by nature. Maybe because it was the first thing that came to me to link my previous life and my new life. Something essential\, pure\, and simple. Something universal. Enveloping and reassuring. Something that we also need to preserve… And something that could help me take root and bloom again” \n  \nRula Jones is currently the Exhibitions Curator at Gallery 115 at the Y.  She has more than twenty years of experience in the Visual Arts in various roles. Her previous experience includes guest curating at several organizations in the Washington DC area\, including the Griffin Art Center\, the Black and White Gallery\, and the Mclean Project for the Arts. She has also held faculty positions at various notable institutions including The Corcoran College of Art + Design\, The Brooklyn Children’s Museum\, and Maryland Institute College of Art.
URL:https://frederickymca.org/event/bloom-art-exhibit-opening-reception
LOCATION:Y Arts Center\, 115 East Church Street\, Frederick\, Maryland\, 21701
CATEGORIES:Gallery 115
ATTACH;FMTTYPE=image/jpeg:https://frederickymca.org/wp-content/uploads/sites/7/2021/06/Bloom-lisa-shierer.jpg
END:VEVENT
END:VCALENDAR