BEGIN:VCALENDAR
VERSION:2.0
PRODID:-//Frederick County YMCA - ECPv6.15.12.2//NONSGML v1.0//EN
CALSCALE:GREGORIAN
METHOD:PUBLISH
X-ORIGINAL-URL:https://frederickymca.org
X-WR-CALDESC:Events for Frederick County YMCA
REFRESH-INTERVAL;VALUE=DURATION:PT1H
X-Robots-Tag:noindex
X-PUBLISHED-TTL:PT1H
BEGIN:VTIMEZONE
TZID:UTC
BEGIN:STANDARD
TZOFFSETFROM:+0000
TZOFFSETTO:+0000
TZNAME:UTC
DTSTART:20230101T000000
END:STANDARD
END:VTIMEZONE
BEGIN:VEVENT
DTSTART;TZID=UTC:20241102T193000
DTEND;TZID=UTC:20241102T210000
DTSTAMP:20260421T210745
CREATED:20241011T140344Z
LAST-MODIFIED:20241011T140344Z
UID:8826-1730575800-1730581200@frederickymca.org
SUMMARY:B'more Bridges Concert: Lili Maya\, video + James Rouvelle\, electronics
DESCRIPTION:B’more Bridges Concert: Lili Maya\, video + James Rouvelle\, electronics\nFrederick Experimental Music Association will present B’more Bridges\, a series of three concerts of improvised music\, intermedia\, and jazz\, by renowned Baltimore artists at the YMCA of Frederick County’s Y Arts Center\, located at 115 East Church Street in downtown Frederick\, Maryland. Doors open for each concert at 7:30\, with performances beginning at 8:00. Admission for each concert is $20 – no cards. \nBaltimore has long been on the cutting edge of performing and visual arts\, a status sustained by the artists included in B’more Bridges. Their reputation for uncompromising work extends far beyond the city\, earning them national and international recognition in their respective fields. B’more Bridges is an opportunity to experience a cross section of one of the more vital arts communities in the US. \nSaturday\, November 2\nLili Maya\, video + James Rouvelle\, electronics \nArtist Lili Maya and composer James Rouvelle have paired original music and video art in live performance internationally since 2009. Maya\, a longtime faculty member of the Maryland Institute College of Art\, and Rouvelle\, a Julliard-trained composer\, create performances that integrate traditional and emerging media in a way that permits improvisation both visually and musically through a set of organized sections that are arranged in real time. Maya’s room-sized screens and Rouvelle’s sound system create an immersible environment of vivid images and sounds.
URL:https://frederickymca.org/event/bmore-bridges-concert-lili-maya-video-james-rouvelle-electronics
LOCATION:Y Arts Center\, 115 East Church Street\, Frederick\, Maryland\, 21701
CATEGORIES:Art,Arts & Humanities
ATTACH;FMTTYPE=image/jpeg:https://frederickymca.org/wp-content/uploads/sites/7/2024/10/James-and-Maya-crop.jpg
END:VEVENT
END:VCALENDAR