BEGIN:VCALENDAR
VERSION:2.0
PRODID:-//Frederick County YMCA - ECPv6.15.12.2//NONSGML v1.0//EN
CALSCALE:GREGORIAN
METHOD:PUBLISH
X-ORIGINAL-URL:https://frederickymca.org
X-WR-CALDESC:Events for Frederick County YMCA
REFRESH-INTERVAL;VALUE=DURATION:PT1H
X-Robots-Tag:noindex
X-PUBLISHED-TTL:PT1H
BEGIN:VTIMEZONE
TZID:UTC
BEGIN:STANDARD
TZOFFSETFROM:+0000
TZOFFSETTO:+0000
TZNAME:UTC
DTSTART:20220101T000000
END:STANDARD
END:VTIMEZONE
BEGIN:VEVENT
DTSTART;TZID=UTC:20231210T120000
DTEND;TZID=UTC:20231210T160000
DTSTAMP:20260425T153533
CREATED:20231011T194015Z
LAST-MODIFIED:20231011T194015Z
UID:8070-1702209600-1702224000@frederickymca.org
SUMMARY:Dual Swim Meet
DESCRIPTION:Sunday\, December 10 – Dual Swim Meet\nNoon-4pm/Closing\nNatelli Family Y\nEntire Basketball Gymnasium and Pool area will be closed.
URL:https://frederickymca.org/event/dual-swim-meet-2
LOCATION:Natelli Family Y\, 3481 Campus Drive\, ljamsville\, 21754\, United States
CATEGORIES:Aquatics,Swim Team
END:VEVENT
END:VCALENDAR