BEGIN:VCALENDAR
VERSION:2.0
PRODID:-//Frederick County YMCA - ECPv6.15.12.2//NONSGML v1.0//EN
CALSCALE:GREGORIAN
METHOD:PUBLISH
X-ORIGINAL-URL:https://frederickymca.org
X-WR-CALDESC:Events for Frederick County YMCA
REFRESH-INTERVAL;VALUE=DURATION:PT1H
X-Robots-Tag:noindex
X-PUBLISHED-TTL:PT1H
BEGIN:VTIMEZONE
TZID:UTC
BEGIN:STANDARD
TZOFFSETFROM:+0000
TZOFFSETTO:+0000
TZNAME:UTC
DTSTART:20220101T000000
END:STANDARD
END:VTIMEZONE
BEGIN:VEVENT
DTSTART;TZID=UTC:20231029T080000
DTEND;TZID=UTC:20231029T160000
DTSTAMP:20260425T181533
CREATED:20231011T193901Z
LAST-MODIFIED:20231011T193901Z
UID:8068-1698566400-1698595200@frederickymca.org
SUMMARY:Fall Fest Invitational Swim Meet
DESCRIPTION:All Day. All areas of the Natelli Family Y will be closed to members except for the Health and Wellness Floor. Expect reduced parking and heavy traffic.
URL:https://frederickymca.org/event/fall-fest-invitational-swim-meet
LOCATION:Natelli Family Y\, 3481 Campus Drive\, ljamsville\, 21754\, United States
CATEGORIES:Aquatics,Swim Team
END:VEVENT
END:VCALENDAR